BEGIN:VCALENDAR
VERSION:2.0
PRODID:icalendar-ruby
CALSCALE:GREGORIAN
METHOD:PUBLISH
BEGIN:VEVENT
DTSTAMP:20260420T013854Z
UID:37-292423@devotedchurchpa.org
DTSTART;VALUE=DATE:20260426
DTEND;VALUE=DATE:20260426
CLASS:PUBLIC
CREATED:20260413T173605
DESCRIPTION:Please contact Pastor Carmen to register at carmen.rodriguez@de
 votedchurchpa.org
LAST-MODIFIED:20260413T173605
LOCATION:Hanover Twp. Community Center\, 3660 Jacksonville Rd\, Bethlehem\,
  PA\, 18017
SUMMARY:Baby Dedication
URL;VALUE=URI:https://www.devotedchurchpa.org/events/baby-dedication/2026-0
 4-26
ATTACH;FILENAME=BabyDed.png;FMTTYPE=image/png:https://dq5pwpg1q8ru0.cloudfr
 ont.net/2026/04/13/21/30/56/819830d0-28e6-49c9-b5e8-e51dd4357fdd/BabyDed.p
 ng
END:VEVENT
END:VCALENDAR
