BEGIN:VCALENDAR
VERSION:2.0
PRODID:icalendar-ruby
CALSCALE:GREGORIAN
METHOD:PUBLISH
BEGIN:VEVENT
DTSTAMP:20260420T002904Z
UID:36-292105@devotedchurchpa.org
DTSTART:20260424T130000Z
DTEND:20260424T150000Z
CLASS:PUBLIC
CREATED:20260404T132840
DESCRIPTION:Join our four-week coffee house gathering on Friday mornings wi
 th devotional reading and prayer.\nDate: April 17 - Location: The Joint C
 offee Co.27 S 3rd Ste 103 Easton\nDate: April 24 - Location: Spectracolor
  Coffee Roasters\, 1247 Simon Blvd N107\, Easton\nDate: May 1 - Location: 
 ThreeBirds Coffee House\, 226 Bushkill St\, Easton\nDate: May 8 - Location
 : Agama Bakery &amp\; Café\, 100 Northampton St\, Easton\nFor more inform
 ation\, please contact Liza Rangel at elegantdesignsbyliza@gmail.com\n\n\n
 \n    Weglot.initialize({\n        api_key: 'wg_8a47b6fc3c27fc64a7e47d434d
 11380f1'\n    })\;\n\n
LAST-MODIFIED:20260404T132840
LOCATION:
SUMMARY:Devoted Women Coffee House Gathering
URL;VALUE=URI:https://www.devotedchurchpa.org/events/devoted-women-coffee-h
 ouse-gathering/2026-04-24
ATTACH;FILENAME=Coffeehouse2.png;FMTTYPE=image/png:https://dq5pwpg1q8ru0.cl
 oudfront.net/2026/04/04/17/25/36/f0388232-d4ef-41b3-afcf-d1c6df8fb410/Coff
 eehouse2.png
END:VEVENT
END:VCALENDAR
