BEGIN:VCALENDAR
VERSION:2.0
PRODID:icalendar-ruby
CALSCALE:GREGORIAN
METHOD:PUBLISH
BEGIN:VEVENT
DTSTAMP:20260420T051019Z
UID:30-292397@devotedchurchpa.org
DTSTART:20260513T230000Z
DTEND:20260514T003000Z
CLASS:PUBLIC
CREATED:20260404T145625
DESCRIPTION:For more information\, please contact Mercedes chavesmercedeslu
 cia@gmail.com
LAST-MODIFIED:20260404T145625
LOCATION:
SUMMARY:Devoted Women (Spanish)
URL;VALUE=URI:https://www.devotedchurchpa.org/events/devoted-women-spanish/
 2026-05-13
ATTACH;FILENAME=MujeresEntregadas.png;FMTTYPE=image/png:https://dq5pwpg1q8r
 u0.cloudfront.net/2026/04/04/18/56/25/3ed18658-36f2-47f4-b2c3-275f2643c1c3
 /MujeresEntregadas.png
END:VEVENT
END:VCALENDAR
