BEGIN:VCALENDAR
VERSION:2.0
PRODID:icalendar-ruby
CALSCALE:GREGORIAN
METHOD:PUBLISH
BEGIN:VEVENT
DTSTAMP:20260420T051130Z
UID:24-292311@devotedchurchpa.org
DTSTART:20260511T230000Z
DTEND:20260512T000000Z
CLASS:PUBLIC
CREATED:20260404T143137
DESCRIPTION:If you want to be part of the Devoted family\, we encourage you
  to take this course since it is the path to become a member.\nWe meet wee
 kly on Monday nights for 4 weeks.\n\n\n\n    Weglot.initialize({\n        
 api_key: 'wg_8a47b6fc3c27fc64a7e47d434d11380f1'\n    })\;\n\n
LAST-MODIFIED:20260404T143137
LOCATION:
SUMMARY:Discipleship Zoom Class (English)
URL;VALUE=URI:https://www.devotedchurchpa.org/events/discipleship-zoom-clas
 s-english/2026-05-11
ATTACH;FILENAME=Discipleship.png;FMTTYPE=image/png:https://dq5pwpg1q8ru0.cl
 oudfront.net/2026/02/27/15/10/22/c72792e0-5437-40a7-a188-beebe29ea485/Disc
 ipleship.png
END:VEVENT
END:VCALENDAR
