BEGIN:VCALENDAR
VERSION:2.0
PRODID:icalendar-ruby
CALSCALE:GREGORIAN
METHOD:PUBLISH
BEGIN:VEVENT
DTSTAMP:20260420T034855Z
UID:28-292314@devotedchurchpa.org
DTSTART:20260504T230000Z
DTEND:20260505T000000Z
CLASS:PUBLIC
CREATED:20260404T144512
DESCRIPTION:If you want to be part of the Devoted family\, we encourage you
  to take this course since it is the path to become a member.\nWe meet wee
 kly for 4 weeks.\n\n\n\n    Weglot.initialize({\n        api_key: 'wg_8a47
 b6fc3c27fc64a7e47d434d11380f1'\n    })\;\n\n
LAST-MODIFIED:20260404T144512
LOCATION:
SUMMARY:Discipleship Zoom Class (Spanish)
URL;VALUE=URI:https://www.devotedchurchpa.org/events/discipleship-zoom-clas
 s-spanish/2026-05-04
ATTACH;FILENAME=DiscSpan.png;FMTTYPE=image/png:https://dq5pwpg1q8ru0.cloudf
 ront.net/2026/02/28/21/02/04/1605b0c7-906e-4a66-91c0-f777b2a53b19/DiscSpan
 .png
END:VEVENT
END:VCALENDAR
