BEGIN:VCALENDAR
VERSION:2.0
PRODID:icalendar-ruby
CALSCALE:GREGORIAN
METHOD:PUBLISH
BEGIN:VEVENT
DTSTAMP:20260420T075833Z
UID:22-292015@devotedchurchpa.org
DTSTART:20260528T230000Z
DTEND:20260529T000000Z
CLASS:PUBLIC
CREATED:20260404T100508
DESCRIPTION:Join us weekly on Thursdays via Zoom.
LAST-MODIFIED:20260404T100508
LOCATION:
SUMMARY:ODD Squad Young Adults - Weekly Zoom Call
URL;VALUE=URI:https://www.devotedchurchpa.org/events/odd-squad-young-adults
 -weekly-zoom-call/2026-05-28
ATTACH;FILENAME=ZoomCall.png;FMTTYPE=image/png:https://dq5pwpg1q8ru0.cloudf
 ront.net/2026/02/27/14/37/13/e84c060b-31b5-4e62-9f58-5d16a3271512/ZoomCall
 .png
END:VEVENT
END:VCALENDAR
