BEGIN:VCALENDAR
VERSION:2.0
PRODID:icalendar-ruby
CALSCALE:GREGORIAN
METHOD:PUBLISH
BEGIN:VEVENT
DTSTAMP:20260420T002653Z
UID:8-292429@devotedchurchpa.org
DTSTART:20260419T140000Z
DTEND:20260419T153000Z
CLASS:PUBLIC
CREATED:20260419T140002
DESCRIPTION:Join us for Sunday worship at Devoted Church as we gather to wo
 rship God\, pray together\, and grow through Scripture. Our service includ
 es modern worship music\, prayer\, and a Bible-based message that is pract
 ical and rooted in God’s Word. Whether you’re new to church or have be
 en attending for years\, you’re welcome to join us.\n\n\n\n    Weglot.in
 itialize({\n        api_key: 'wg_8a47b6fc3c27fc64a7e47d434d11380f1'\n    }
 )\;\n\n
LAST-MODIFIED:20260419T140002
LOCATION:C&J Crystal Ballroom\, 224 Stockton St\, Phillipsburg\, NJ 08865
SUMMARY:Sunday Worship Service (English)
URL;VALUE=URI:https://www.devotedchurchpa.org/events/sunday-worship-service
 -english/2026-04-19
ATTACH;FILENAME=Service3.png;FMTTYPE=image/png:https://dq5pwpg1q8ru0.cloudf
 ront.net/2026/02/26/21/05/55/bc86a53c-f85d-4bd0-bac0-e2c6bd22c43d/Service3
 .png
END:VEVENT
END:VCALENDAR
