BEGIN:VCALENDAR
VERSION:2.0
PRODID:icalendar-ruby
CALSCALE:GREGORIAN
METHOD:PUBLISH
BEGIN:VEVENT
DTSTAMP:20260420T020547Z
UID:9-292437@devotedchurchpa.org
DTSTART:20260426T160000Z
DTEND:20260426T173000Z
CLASS:PUBLIC
CREATED:20260419T140020
DESCRIPTION:Join us for Sunday worship at Devoted Church as we gather to wo
 rship God\, pray together\, and grow through Scripture. Our service includ
 es modern worship music\, prayer\, and a Bible-based message that is pract
 ical and rooted in God’s Word. Whether you’re new to church or have be
 en attending for years\, you’re welcome to join us.\n\n\n\n    Weglot.in
 itialize({\n        api_key: 'wg_8a47b6fc3c27fc64a7e47d434d11380f1'\n    }
 )\;\n\n
LAST-MODIFIED:20260419T140020
LOCATION:C&J Crystal Ballroom\, 224 Stockton St\, Phillipsburg\, NJ 08865
SUMMARY:Sunday Worship Service (Spanish)
URL;VALUE=URI:https://www.devotedchurchpa.org/events/sunday-worship-service
 -spanish/2026-04-26
ATTACH;FILENAME=Service3.png;FMTTYPE=image/png:https://dq5pwpg1q8ru0.cloudf
 ront.net/2026/02/26/21/09/14/1acfa9ac-4539-4d3d-957d-d56a4781cd6f/Service3
 .png
END:VEVENT
END:VCALENDAR
