BEGIN:VCALENDAR
VERSION:2.0
PRODID:icalendar-ruby
CALSCALE:GREGORIAN
METHOD:PUBLISH
BEGIN:VEVENT
DTSTAMP:20260420T033813Z
UID:25-292280@devotedchurchpa.org
DTSTART:20260508T230000Z
DTEND:20260509T010000Z
CLASS:PUBLIC
CREATED:20260404T141820
DESCRIPTION:Every Friday\nFor more information\, please contact Purnel (pkn
 ight.pk68@gmail.com) and Sinaí (sinaiknight8168@gmail.com)
LAST-MODIFIED:20260404T141820
LOCATION:2644 Clover Dr\, Easton\, PA
SUMMARY:Three Cords Marriage - Married Couples (English)
URL;VALUE=URI:https://www.devotedchurchpa.org/events/three-cords-marriage-m
 arried-couples-english/2026-05-08
ATTACH;FILENAME=IMG_6738.jpg;FMTTYPE=image/jpeg:https://dq5pwpg1q8ru0.cloud
 front.net/2026/02/27/16/42/23/1a1b44b1-e201-4a35-88bb-86f156c9bdea/IMG_673
 8.jpg
END:VEVENT
END:VCALENDAR
