BEGIN:VCALENDAR
VERSION:2.0
PRODID:icalendar-ruby
CALSCALE:GREGORIAN
METHOD:PUBLISH
BEGIN:VEVENT
DTSTAMP:20260420T003021Z
UID:29-292321@devotedchurchpa.org
DTSTART:20260424T230000Z
DTEND:20260425T010000Z
CLASS:PUBLIC
CREATED:20260404T144952
DESCRIPTION:Every Friday\nFor more information contact German (Germanleong7
 3@gmail.com) or Steicy (steicymalabet@hotmail.com).
LAST-MODIFIED:20260404T144952
LOCATION:2644 Clover Dr\, Easton\, PA
SUMMARY:Three Cords Marriage - Married Couples (Spanish)
URL;VALUE=URI:https://www.devotedchurchpa.org/events/three-cords-marriage-m
 arried-couples-spanish/2026-04-24
ATTACH;FILENAME=IMG_6738.jpg;FMTTYPE=image/jpeg:https://dq5pwpg1q8ru0.cloud
 front.net/2026/02/28/21/20/23/ece2022d-c74a-4567-a07d-8649ee60a028/IMG_673
 8.jpg
END:VEVENT
END:VCALENDAR
