BEGIN:VCALENDAR
VERSION:2.0
PRODID:icalendar-ruby
CALSCALE:GREGORIAN
METHOD:PUBLISH
BEGIN:VEVENT
DTSTAMP:20260423T090549Z
UID:27-292170@devotedchurchpa.org
DTSTART:20260923T233000Z
DTEND:20260924T003000Z
CLASS:PUBLIC
CREATED:20260404T140234
DESCRIPTION:Bring your prayer request!
LAST-MODIFIED:20260404T140234
LOCATION:
SUMMARY:Zoom Prayer Meeting (English)
URL;VALUE=URI:https://www.devotedchurchpa.org/events/zoom-prayer-meeting-en
 glish/2026-09-23
ATTACH;FILENAME=Prayer.png;FMTTYPE=image/png:https://dq5pwpg1q8ru0.cloudfro
 nt.net/2026/02/27/17/01/30/49f362fe-3632-47de-8e40-665cffe0b8e9/Prayer.png
END:VEVENT
END:VCALENDAR
