BEGIN:VCALENDAR
VERSION:2.0
PRODID:icalendar-ruby
CALSCALE:GREGORIAN
METHOD:PUBLISH
BEGIN:VEVENT
DTSTAMP:20260420T063332Z
UID:32-292335@devotedchurchpa.org
DTSTART:20260519T230000Z
DTEND:20260520T000000Z
CLASS:PUBLIC
CREATED:20260404T145052
DESCRIPTION:Bring your prayer request!
LAST-MODIFIED:20260404T145052
LOCATION:
SUMMARY:Zoom Prayer Meeting (Spanish)
URL;VALUE=URI:https://www.devotedchurchpa.org/events/zoom-prayer-meeting-sp
 anish/2026-05-19
ATTACH;FILENAME=Prayer.png;FMTTYPE=image/png:https://dq5pwpg1q8ru0.cloudfro
 nt.net/2026/03/01/01/41/46/f04f45ae-05b1-4985-801c-fb2f7b8f2c88/Prayer.png
END:VEVENT
END:VCALENDAR
